Workbook

Sheet Tabel 1 Zorguitgaven 1996-2031
B1: Tabel 1 Ontwikkeling van de Zorguitgaven 1996-2031 (bedragen x € 1 miljard)
C2: (Voorlopige) Realisaties 1996-2025 | AG2: Begroting 2026-2031
C3: 1996 | D3: 1997 | E3: 1998 | F3: 1999 | G3: 2000 | H3: 2001 | I3: 2002 | J3: 2003 (3) | K3: 2004 | L3: 2005 | M3: 2006 | N3: 2007 (2) | O3: 2008 | P3: 2009 | Q3: 2010 (1) | R3: 2011 | S3: 2012 | T3: 2013 | U3: 2014 | V3: 2015 | W3: 2016 | X3: 2017 | Y3: 2018 | Z3: 2019 | AA3: 2020 | AB3: 2021 | AC3: 2022 | AD3: 2023 | AE3: 2024 (4) | AF3: 2025 | AG3: 2026 (5) | AH3: 2027 | AI3: 2028 | AJ3: 2029 | AK3: 2030 | AL3: 2031
B4: Zorgverzekeringswet (Zvw)
A5: 1 | B5: Bruto-uitgaven | C5: 15.6004 | D5: 15.6575 | E5: 16.1658 | F5: 17.122 | G5: 18.126142 | H5: 20.02763 | I5: 22.286404 | J5: 23.499153 | K5: 23.696323 | L5: 24.299313 | M5: 25.292638 | N5: 26.077107 | O5: 31.4654 | P5: 33.75636 | Q5: 35.473734 | R5: 35.982827 | S5: 36.671563 | T5: 39.210479 | U5: 39.219933 | V5: 41.842081 | W5: 43.779457 | X5: 45.133451 | Y5: 46.824055 | Z5: 48.752344 | AA5: 50.805989 | AB5: 50.767147 | AC5: 54.07765 | AD5: 57.734386 | AE5: 62.145614 | AF5: 65.947353 | AG5: 69.428486 | AH5: 73.262098 | AI5: 74.860031 | AJ5: 76.843068 | AK5: 79.587823 | AL5: 82.600518
A6: 2 | B6: Correctie schadelastdip ggz | AB6: =1247/1000 -> 1.247
A7: 3 | B7: Bruto-uitgaven incl. correctie (=1-2) | C7: =C5-C6 -> 15.6004 | D7: =D5-D6 -> 15.6575 | E7: =E5-E6 -> 16.1658 | F7: =F5-F6 -> 17.122 | G7: =G5-G6 -> 18.126142 | H7: =H5-H6 -> 20.02763 | I7: =I5-I6 -> 22.286404 | J7: =J5-J6 -> 23.499153 | ... AL7: =AL5-AL6 -> 82.600518
A8: 4 | B8: Ontvangsten | C8: 1.4173 | D8: 0.9244 | E8: 0.8097 | F8: 0.8361 | G8: 0.7265 | H8: 0.8699 | I8: 0.7993 | J8: 0.5384 | K8: 0.4492 | L8: 2.0466 | M8: 2.0527 | N8: 2.047 | O8: 1.3107 | P8: 1.364 | Q8: 1.4807 | R8: 1.49903 | S8: 1.932238 | T8: 2.666024 | U8: 3.125086 | V8: 3.217744 | W8: 3.194844 | X8: 3.128369 | Y8: 3.203919 | Z8: 3.124236 | AA8: 3.214277 | AB8: 3.075324 | AC8: 3.166536 | AD8: 3.33807 | AE8: 3.417996 | AF8: 3.395217 | AG8: 3.442669 | AH8: 3.6482 | AI8: 4.0073 | AJ8: 4.1177 | AK8: 4.2693 | AL8: 4.4191
A9: 5 | B9: Netto-uitgaven Zvw (=3-4) | C9: =C7-C8 -> 14.1831 | D9: =D7-D8 -> 14.7331 | E9: =E7-E8 -> 15.3561 | F9: =F7-F8 -> 16.2859 | G9: =G7-G8 -> 17.399642 | H9: =H7-H8 -> 19.15773 | I9: =I7-I8 -> 21.487104 | J9: =J7-J8 -> 22.960753 | ... AL9: =AL7-AL8 -> 78.181418
B11: Wet langdurige zorg (Wlz, AWBZ)
A12: 6 | B12: Bruto-uitgaven | C12: 9.3615899 | D12: 12.256468 | E12: 12.834345 | F12: 13.45723 | G12: 14.581375 | H12: 16.2117 | I12: 18.420164 | J12: 20.168463 | K12: 21.17913 | L12: 22.156 | M12: 22.995774 | N12: 22.852481 | O12: 21.8061 | P12: 23.2211 | Q12: 24.134731 | R12: 25.222235 | S12: 27.865465 | T12: 27.452184 | U12: 27.800188 | V12: 19.545241 | W12: 19.929948 | X12: 20.400558 | Y12: 21.634165 | Z12: 23.800882 | AA12: 26.167969 | AB12: 28.625825 | AC12: 30.570101 | AD12: 33.1658 | AE12: 36.455306 | AF12: 38.618971 | AG12: 41.207521 | AH12: 43.987242 | AI12: 46.534709 | AJ12: 49.698367 | AK12: 52.461589 | AL12: 55.492389
A13: 7 | B13: Ontvangsten | C13: 0.7438 | D13: 1.4615 | E13: 1.6039 | F13: 1.5951 | G13: 1.6452 | H13: 1.5592 | I13: 1.5995 | J13: 1.8347 | K13: 1.7549 | L13: 1.788 | M13: 1.7945 | N13: 1.6176 | O13: 1.6181 | P13: 1.5943 | Q13: 1.4782 | R13: 1.619613 | S13: 1.696619 | T13: 1.91484 | U13: 1.970885 | V13: 1.892 | W13: 1.8918 | X13: 1.851872 | Y13: 1.770688 | Z13: 1.845589 | AA13: 1.883063 | AB13: 1.9916 | AC13: 2.114907 | AD13: 2.232607 | AE13: 2.327507 | AF13: 2.5699 | AG13: 2.7767 | AH13: 2.8945 | AI13: 3.0283 | AJ13: 3.1559 | AK13: 3.2543 | AL13: 3.3714
A14: 8 | B14: Netto-uitgaven Wlz (=6-7) | C14: =C12-C13 -> 8.6177899 | D14: =D12-D13 -> 10.794968 | E14: =E12-E13 -> 11.230445 | F14: =F12-F13 -> 11.86213 | G14: =G12-G13 -> 12.936175 | H14: =H12-H13 -> 14.6525 | I14: =I12-I13 -> 16.820664 | J14: =J12-J13 -> 18.333763 | ... AL14: =AL12-AL13 -> 52.120989
B16: Totale premiegefinancierde zorguitgaven (Zvw + Wlz)
A17: 9 | B17: Bruto-uitgaven (=3+6) | C17: =C7+C12 -> 24.96199 | D17: =D7+D12 -> 27.913968 | E17: =E7+E12 -> 29.000145 | F17: =F7+F12 -> 30.57923 | G17: =G7+G12 -> 32.707517 | H17: =H7+H12 -> 36.239331 | I17: =I7+I12 -> 40.706568 | J17: =J7+J12 -> 43.667616 | ... AL17: =AL7+AL12 -> 138.09291
A18: 10 | B18: Ontvangsten (=4+7) | C18: =C8+C13 -> 2.1611 | D18: =D8+D13 -> 2.3859 | E18: =E8+E13 -> 2.4136 | F18: =F8+F13 -> 2.4312 | G18: =G8+G13 -> 2.3717 | H18: =H8+H13 -> 2.4291 | I18: =I8+I13 -> 2.3988 | J18: =J8+J13 -> 2.3731 | ... AL18: =AL8+AL13 -> 7.7905
A19: 11 | B19: Netto-uitgaven premiegefinancierd (=9-10) | C19: =C17-C18 -> 22.80089 | D19: =D17-D18 -> 25.528068 | E19: =E17-E18 -> 26.586545 | F19: =F17-F18 -> 28.14803 | G19: =G17-G18 -> 30.335817 | H19: =H17-H18 -> 33.810231 | I19: =I17-I18 -> 38.307768 | J19: =J17-J18 -> 41.294516 | ... AL19: =AL17-AL18 -> 130.30241
B21: Begrotingsgefinancierde zorguitgaven (voorheen kader Z)
A22: 12 | B22: Bruto-Wmo (Gemeentefonds) | C22: 0 | D22: 0 | E22: 0 | F22: 0 | G22: 0 | H22: 0 | I22: 0 | J22: 0 | K22: 0 | L22: 0 | M22: 0 | N22: 1.411 | O22: 1.475 | P22: 1.533 | Q22: 1.541 | R22: 1.456 | S22: 1.511305 | T22: 1.561182 | U22: 1.713667 | V22: 4.943378 | W22: 4.944983 | X22: 4.898501 | Y22: 5.11144
A23: 13 | B23: Bruto-Jeugdwet (Gemeentefonds) | C23: 0 | D23: 0 | E23: 0 | F23: 0 | G23: 0 | H23: 0 | I23: 0 | J23: 0 | K23: 0 | L23: 0 | M23: 0 | N23: 0 | O23: 0 | P23: 0 | Q23: 0 | R23: 0 | S23: 0 | T23: 0 | U23: 0 | V23: 2.033784 | W23: 1.920017 | X23: 1.878388 | Y23: 1.970994
A24: 14 | B24: Bruto beschermd wonen (gemeentefonds) | Z24: 1.809397 | AA24: 1.938274 | AB24: 1.488899 | AC24: 1.498275 | AD24: 1.64147 | AE24: 1.730992 | AF24: 1.833044
A25: 15 | B25: Aanvullende Post (Financiën)
A26: 16 | B26: Bruto overig begrotingsgefinancierd (VWS-begroting ) | C26: 2.7715185 | D26: 1.3936185 | E26: 1.7309185 | F26: 1.9722185 | G26: 1.9347185 | H26: 2.2048941 | I26: 2.394 | J26: 0 | K26: 0 | L26: 0.0495 | M26: 0.0345 | N26: 0.636 | O26: 0.783 | P26: 0.8242 | Q26: 1.3268 | R26: 1.8204 | S26: 1.893264 | T26: 0.593798 | U26: 0.577498 | V26: 0.490635 | W26: 0.433992 | X26: 0.49968 | Y26: 0.512995 | Z26: 0.461322 | AA26: 0.482328 | AB26: 0.492021 | AC26: 0.534709 | AD26: 0.504756
A27: 17 | B27: Bruto-uitgaven (=12+13+14+15+16) | C27: =SUM(C22:C26) -> 2.7715185 | D27: =SUM(D22:D26) -> 1.3936185 | E27: =SUM(E22:E26) -> 1.7309185 | F27: =SUM(F22:F26) -> 1.9722185 | G27: =SUM(G22:G26) -> 1.9347185 | H27: =SUM(H22:H26) -> 2.2048941 | I27: =SUM(I22:I26) -> 2.394 | J27: =SUM(J22:J26) -> 0 | ... AL27: =SUM(AL22:AL26) -> 0
A28: 18 | B28: Ontvangsten | C28: 0.0869 | D28: 0.12 | E28: 0.1888 | F28: 0.2623 | G28: 0.2618 | H28: 0.1895 | I28: 0 | J28: 0 | K28: 0 | L28: 0 | M28: 0 | N28: 0 | O28: 0.039 | P28: 0.0633 | Q28: 0.0734 | R28: 0.0509 | S28: 0.0209 | T28: 0 | U28: 0 | V28: 0 | W28: 0 | X28: 0 | Y28: 0 | Z28: 0 | AA28: 0 | AB28: 0 | AC28: 0 | AD28: 3.502 | AE28: 0 | AF28: 0 | AG28: 0 | AH28: 0 | AI28: 0 | AJ28: 0 | AK28: 0 | AL28: 0
A29: 19 | B29: Netto-uitgaven begrotingsgefinancierd (=17+18) | C29: =C27-C28 -> 2.6846185 | D29: =D27-D28 -> 1.2736185 | E29: =E27-E28 -> 1.5421185 | F29: =F27-F28 -> 1.7099185 | G29: =G27-G28 -> 1.6729185 | H29: =H27-H28 -> 2.0153941 | I29: =I27-I28 -> 2.394 | J29: =J27-J28 -> 0 | ... AL29: =AL27-AL28 -> 0
B31: Begrotingsgefinancierde zorguitgaven (hoofdstuk 16)
A32: 20 | B32: Bruto-uitgaven | AG32: 38.52778 | AH32: 40.702282 | AI32: 43.197326 | AJ32: 45.402334 | AK32: 46.981807 | AL32: 49.208109
A33: 21 | B33: Correctie Rijksbijdragen (Wlz, BIKK en 18-) en specifieke kosten | AG33: 24.156649 | AH33: 25.079149 | AI33: 28.213949 | AJ33: 30.781535 | AK33: 32.613704 | AL33: 34.797973
A34: 22 | B34: Correctie zorgtoeslag | AG34: 7.3865 | AH34: 8.1196 | AI34: 8.0501 | AJ34: 8.2611 | AK34: 8.5608 | AL34: 8.7906
A35: 23 | B35: Bruto-uitgaven (=20-21-22) | AG35: =AG32-AG33-AG34 -> 6.984631 | AH35: =AH32-AH33-AH34 -> 7.503533 | AI35: =AI32-AI33-AI34 -> 6.933277 | AJ35: =AJ32-AJ33-AJ34 -> 6.359699 | AK35: =AK32-AK33-AK34 -> 5.807303 | AL35: =AL32-AL33-AL34 -> 5.619536
A36: 24 | B36: Ontvangsten | AG36: 0.968501 | AH36: 0.801428 | AI36: 0.81224 | AJ36: 0.824866 | AK36: 0.848695 | AL36: 0.865031
A37: 25 | B37: Correctie overige ontvangsten | AG37: 0.6094 | AH37: 0.5842 | AI37: 0.6256 | AJ37: 0.6447 | AK37: 0.6641 | AL37: 0.6852
A38: 26 | B38: Ontvangsten (=24-25) | AG38: =AG36-AG37 -> 0.359101 | AH38: =AH36-AH37 -> 0.217228 | AI38: =AI36-AI37 -> 0.18664 | AJ38: =AJ36-AJ37 -> 0.180166 | AK38: =AK36-AK37 -> 0.184595 | AL38: =AL36-AL37 -> 0.179831
A39: 27 | B39: Netto-uitgaven (=23-26) | AG39: =AG35-AG38 -> 6.62553 | AH39: =AH35-AH38 -> 7.286305 | AI39: =AI35-AI38 -> 6.746637 | AJ39: =AJ35-AJ38 -> 6.179533 | AK39: =AK35-AK38 -> 5.622708 | AL39: =AL35-AL38 -> 5.439705
B41: Totale zorguitgaven (premie en begrotingsgefinancierd)
A42: 28 | B42: Bruto (=3+6+17+23) | C42: =C7+C12+C27+C35 -> 27.733508 | D42: =D7+D12+D27+D35 -> 29.307587 | E42: =E7+E12+E27+E35 -> 30.731063 | F42: =F7+F12+F27+F35 -> 32.551449 | G42: =G7+G12+G27+G35 -> 34.642236 | H42: =H7+H12+H27+H35 -> 38.444225 | I42: =I7+I12+I27+I35 -> 43.100568 | J42: =J7+J12+J27+J35 -> 43.667616 | ... AL42: =AL7+AL12+AL27+AL35 -> 143.71244
A43: 29 | B43: Ontvangsten (=4+7+18+26) | C43: =C8+C13+C28+C38 -> 2.248 | D43: =D8+D13+D28+D38 -> 2.5059 | E43: =E8+E13+E28+E38 -> 2.6024 | F43: =F8+F13+F28+F38 -> 2.6935 | G43: =G8+G13+G28+G38 -> 2.6335 | H43: =H8+H13+H28+H38 -> 2.6186 | I43: =I8+I13+I28+I38 -> 2.3988 | J43: =J8+J13+J28+J38 -> 2.3731 | ... AL43: =AL8+AL13+AL28+AL38 -> 7.970331
A44: 30 | B44: Netto totale zorguitgaven (=28+29) | C44: =C42-C43 -> 25.485508 | D44: =D42-D43 -> 26.801687 | E44: =E42-E43 -> 28.128663 | F44: =F42-F43 -> 29.857949 | G44: =G42-G43 -> 32.008736 | H44: =H42-H43 -> 35.825625 | I44: =I42-I43 -> 40.701768 | J44: =J42-J43 -> 41.294516 | ... AL44: =AL42-AL43 -> 135.74211
A45: 31 | B45: Netto totale zorguitgaven (=30 in prijspeil 2026) | AH45: 113.39945 | AI45: 112.76162 | AJ45: 113.31401 | AK45: 114.052 | AL45: 115.42074
...

Sheet Tabel 2 Groei zorg (premie)
A1: Tabel 2 Groei totale premiegefinancierde zorguitgaven 1997-2031 (bedragen x € 1 miljard)
B2: 1996 | C2: 1997 | D2: 1998 | E2: 1999 | F2: 2000 | G2: 2001 | H2: 2002 | I2: 2003 | J2: 2004 | K2: 2005 | L2: 2006 | M2: 2007 | N2: 2008 | O2: 2009 | P2: 2010 | Q2: 2011 | R2: 2012 | S2: 2013 | T2: 2014 | U2: 2015 | V2: 2016 | W2: 2017 | X2: 2018 | Y2: 2019 | Z2: 2020 | AA2: 2021 | AB2: 2022 | AC2: 2023 | AD2: 2024 | AE2: 2025 | AF2: 2026 | AG2: 2027 | AH2: 2028 | AI2: 2029 | AJ2: 2030 | AK2: 2031
A3: Groei bruto Zvw-uitgaven | C3: ='Tabel 1 Zorguitgaven 1996-2031'!D7-'Tabel 1 Zorguitgaven 1996-2031'!C7 -> 0.0571 | D3: ='Tabel 1 Zorguitgaven 1996-2031'!E7-'Tabel 1 Zorguitgaven 1996-2031'!D7 -> 0.5083 | E3: ='Tabel 1 Zorguitgaven 1996-2031'!F7-'Tabel 1 Zorguitgaven 1996-2031'!E7 -> 0.9562 | F3: ='Tabel 1 Zorguitgaven 1996-2031'!G7-'Tabel 1 Zorguitgaven 1996-2031'!F7 -> 1.0041422 | G3: ='Tabel 1 Zorguitgaven 1996-2031'!H7-'Tabel 1 Zorguitgaven 1996-2031'!G7 -> 1.9014881 | H3: ='Tabel 1 Zorguitgaven 1996-2031'!I7-'Tabel 1 Zorguitgaven 1996-2031'!H7 -> 2.258774 | I3: ='Tabel 1 Zorguitgaven 1996-2031'!J7-'Tabel 1 Zorguitgaven 1996-2031'!I7 -> 1.2127489 | J3: ='Tabel 1 Zorguitgaven 1996-2031'!K7-'Tabel 1 Zorguitgaven 1996-2031'!J7 -> 0.19717 | ... AK3: ='Tabel 1 Zorguitgaven 1996-2031'!AL7-'Tabel 1 Zorguitgaven 1996-2031'!AK7 -> 3.012695
A4: Nominale groei (% bruto Zvw) | C4: =C3/'Tabel 1 Zorguitgaven 1996-2031'!C7 -> 0.0036601626 | D4: =D3/'Tabel 1 Zorguitgaven 1996-2031'!D7 -> 0.032463676 | E4: =E3/'Tabel 1 Zorguitgaven 1996-2031'!E7 -> 0.059149563 | F4: =F3/'Tabel 1 Zorguitgaven 1996-2031'!F7 -> 0.058646314 | G4: =G3/'Tabel 1 Zorguitgaven 1996-2031'!G7 -> 0.10490308 | H4: =H3/'Tabel 1 Zorguitgaven 1996-2031'!H7 -> 0.11278289 | I4: =I3/'Tabel 1 Zorguitgaven 1996-2031'!I7 -> 0.054416533 | J4: =J3/'Tabel 1 Zorguitgaven 1996-2031'!J7 -> 0.0083905153 | ... AK4: =AK3/'Tabel 1 Zorguitgaven 1996-2031'!AK7 -> 0.037853718
A5: Prijs BBP | C5: 0.026 | D5: 0.021 | E5: 0.013 | F5: 0.034 | G5: 0.042 | H5: 0.038 | I5: 0.022 | J5: 0.012 | K5: 0.02 | L5: 0.026 | M5: 0.021 | N5: 0.023 | O5: 0.002 | P5: 0.009 | Q5: 0.002 | R5: 0.014 | S5: 0.013 | T5: 0.003 | U5: 0.008 | V5: 0.005 | W5: 0.013 | X5: 0.025334117 | Y5: 0.030278131 | Z5: 0.023557769 | AA5: 0.027473382 | AB5: 0.061555749 | AC5: 0.063020691 | AD5: 0.057443029 | AE5: 0.040887228 | AF5: 0.024938374 | AG5: 0.025335361 | AH5: 0.02654432 | AI5: 0.024859642 | AJ5: 0.023566644 | AK5: 0.023566644
A6: Reële groei van de bruto Zvw-uitgaven | C6: =(1+C4)/(1+C5)-1 -> -0.021773721 | D6: =(1+D4)/(1+D5)-1 -> 0.01122789 | E6: =(1+E4)/(1+E5)-1 -> 0.045557318 | F6: =(1+F4)/(1+F5)-1 -> 0.023835893 | G6: =(1+G4)/(1+G5)-1 -> 0.060367635 | H6: =(1+H4)/(1+H5)-1 -> 0.072045173 | I6: =(1+I4)/(1+I5)-1 -> 0.031718721 | J6: =(1+J4)/(1+J5)-1 -> -0.0035666845 | ... AK6: =(1+AK4)/(1+AK5)-1 -> 0.013958128
A8: Groei netto Zvw-uitgaven | C8: ='Tabel 1 Zorguitgaven 1996-2031'!D9-'Tabel 1 Zorguitgaven 1996-2031'!C9 -> 0.55 | D8: ='Tabel 1 Zorguitgaven 1996-2031'!E9-'Tabel 1 Zorguitgaven 1996-2031'!D9 -> 0.623 | E8: ='Tabel 1 Zorguitgaven 1996-2031'!F9-'Tabel 1 Zorguitgaven 1996-2031'!E9 -> 0.9298 | F8: ='Tabel 1 Zorguitgaven 1996-2031'!G9-'Tabel 1 Zorguitgaven 1996-2031'!F9 -> 1.1137422 | G8: ='Tabel 1 Zorguitgaven 1996-2031'!H9-'Tabel 1 Zorguitgaven 1996-2031'!G9 -> 1.7580881 | H8: ='Tabel 1 Zorguitgaven 1996-2031'!I9-'Tabel 1 Zorguitgaven 1996-2031'!H9 -> 2.329374 | I8: ='Tabel 1 Zorguitgaven 1996-2031'!J9-'Tabel 1 Zorguitgaven 1996-2031'!I9 -> 1.4736489 | J8: ='Tabel 1 Zorguitgaven 1996-2031'!K9-'Tabel 1 Zorguitgaven 1996-2031'!J9 -> 0.28637 | ... AK8: ='Tabel 1 Zorguitgaven 1996-2031'!AL9-'Tabel 1 Zorguitgaven 1996-2031'!AK9 -> 2.862895
A9: Nominale groei (% netto Zvw) | C9: =C8/'Tabel 1 Zorguitgaven 1996-2031'!C9 -> 0.038778546 | D9: =D8/'Tabel 1 Zorguitgaven 1996-2031'!D9 -> 0.042285738 | E9: =E8/'Tabel 1 Zorguitgaven 1996-2031'!E9 -> 0.060549228 | F9: =F8/'Tabel 1 Zorguitgaven 1996-2031'!F9 -> 0.068386898 | G9: =G8/'Tabel 1 Zorguitgaven 1996-2031'!G9 -> 0.10104162 | H9: =H8/'Tabel 1 Zorguitgaven 1996-2031'!H9 -> 0.12158925 | I9: =I8/'Tabel 1 Zorguitgaven 1996-2031'!I9 -> 0.068582943 | J9: =J8/'Tabel 1 Zorguitgaven 1996-2031'!J9 -> 0.012472152 | ... AK9: =AK8/'Tabel 1 Zorguitgaven 1996-2031'!AK9 -> 0.038010504
A10: Prijs BBP | C10: 0.026 | D10: 0.021 | E10: 0.013 | F10: 0.034 | G10: 0.042 | H10: 0.038 | I10: 0.022 | J10: 0.012 | K10: 0.02 | L10: 0.026 | M10: 0.021 | N10: 0.023 | O10: 0.002 | P10: 0.009 | Q10: 0.002 | R10: 0.014 | S10: 0.013 | T10: 0.003 | U10: 0.008 | V10: 0.005 | W10: 0.013 | X10: 0.025334117 | Y10: 0.030278131 | Z10: 0.023557769 | AA10: 0.027473382 | AB10: 0.061555749 | AC10: 0.063020691 | AD10: 0.057443029 | AE10: 0.040887228 | AF10: 0.024938374 | AG10: 0.025335361 | AH10: 0.02654432 | AI10: 0.024859642 | AJ10: 0.023566644 | AK10: 0.023566644
A11: Reële groei van de netto Zvw-uitgaven | C11: =(1+C9)/(1+C10)-1 -> 0.012454723 | D11: =(1+D9)/(1+D10)-1 -> 0.020847931 | E11: =(1+E9)/(1+E10)-1 -> 0.046939021 | F11: =(1+F9)/(1+F10)-1 -> 0.033256188 | G11: =(1+G9)/(1+G10)-1 -> 0.056661825 | H11: =(1+H9)/(1+H10)-1 -> 0.080529141 | I11: =(1+I9)/(1+I10)-1 -> 0.045580179 | J11: =(1+J9)/(1+J10)-1 -> 0.00046655341 | ... AK11: =(1+AK9)/(1+AK10)-1 -> 0.014111304
A13: Groei bruto Wlz-uitgaven | C13: ='Tabel 1 Zorguitgaven 1996-2031'!D12-'Tabel 1 Zorguitgaven 1996-2031'!C12 -> 2.8948782 | D13: ='Tabel 1 Zorguitgaven 1996-2031'!E12-'Tabel 1 Zorguitgaven 1996-2031'!D12 -> 0.57787649 | E13: ='Tabel 1 Zorguitgaven 1996-2031'!F12-'Tabel 1 Zorguitgaven 1996-2031'!E12 -> 0.6228858 | F13: ='Tabel 1 Zorguitgaven 1996-2031'!G12-'Tabel 1 Zorguitgaven 1996-2031'!F12 -> 1.1241445 | G13: ='Tabel 1 Zorguitgaven 1996-2031'!H12-'Tabel 1 Zorguitgaven 1996-2031'!G12 -> 1.6303255 | H13: ='Tabel 1 Zorguitgaven 1996-2031'!I12-'Tabel 1 Zorguitgaven 1996-2031'!H12 -> 2.2084635 | I13: ='Tabel 1 Zorguitgaven 1996-2031'!J12-'Tabel 1 Zorguitgaven 1996-2031'!I12 -> 1.7482993 | J13: ='Tabel 1 Zorguitgaven 1996-2031'!K12-'Tabel 1 Zorguitgaven 1996-2031'!J12 -> 1.0106665 | ... AK13: ='Tabel 1 Zorguitgaven 1996-2031'!AL12-'Tabel 1 Zorguitgaven 1996-2031'!AK12 -> 3.0308
A14: Nominale groei (% bruto Wlz) | C14: =C13/'Tabel 1 Zorguitgaven 1996-2031'!C12 -> 0.30922933 | D14: =D13/'Tabel 1 Zorguitgaven 1996-2031'!D12 -> 0.047148697 | E14: =E13/'Tabel 1 Zorguitgaven 1996-2031'!E12 -> 0.048532731 | F14: =F13/'Tabel 1 Zorguitgaven 1996-2031'!F12 -> 0.083534612 | G14: =G13/'Tabel 1 Zorguitgaven 1996-2031'!G12 -> 0.11180876 | H14: =H13/'Tabel 1 Zorguitgaven 1996-2031'!H12 -> 0.13622652 | I14: =I13/'Tabel 1 Zorguitgaven 1996-2031'!I12 -> 0.094912253 | J14: =J13/'Tabel 1 Zorguitgaven 1996-2031'!J12 -> 0.050111229 | ... AK14: =AK13/'Tabel 1 Zorguitgaven 1996-2031'!AK12 -> 0.057771792
A15: Prijs BBP | C15: 0.026 | D15: 0.021 | E15: 0.013 | F15: 0.034 | G15: 0.042 | H15: 0.038 | I15: 0.022 | J15: 0.012 | K15: 0.02 | L15: 0.026 | M15: 0.021 | N15: 0.023 | O15: 0.002 | P15: 0.009 | Q15: 0.002 | R15: 0.014 | S15: 0.013 | T15: 0.003 | U15: 0.008 | V15: 0.005 | W15: 0.013 | X15: 0.025334117 | Y15: 0.030278131 | Z15: 0.023557769 | AA15: 0.027473382 | AB15: 0.061555749 | AC15: 0.063020691 | AD15: 0.057443029 | AE15: 0.040887228 | AF15: 0.024938374 | AG15: 0.025335361 | AH15: 0.02654432 | AI15: 0.024859642 | AJ15: 0.023566644 | AK15: 0.023566644
A16: Reële groei van de bruto Wlz-uitgaven | C16: =(1+C14)/(1+C15)-1 -> 0.27605198 | D16: =(1+D14)/(1+D15)-1 -> 0.025610868 | E16: =(1+E14)/(1+E15)-1 -> 0.035076734 | F16: =(1+F14)/(1+F15)-1 -> 0.047905815 | G16: =(1+G14)/(1+G15)-1 -> 0.066994973 | H16: =(1+H14)/(1+H15)-1 -> 0.094630556 | I16: =(1+I14)/(1+I15)-1 -> 0.071342713 | J16: =(1+J14)/(1+J15)-1 -> 0.037659317 | ... AK16: =(1+AK14)/(1+AK15)-1 -> 0.033417607
A18: Groei netto Wlz-uitgaven | C18: ='Tabel 1 Zorguitgaven 1996-2031'!D14-'Tabel 1 Zorguitgaven 1996-2031'!C14 -> 2.1771782 | D18: ='Tabel 1 Zorguitgaven 1996-2031'!E14-'Tabel 1 Zorguitgaven 1996-2031'!D14 -> 0.43547649 | E18: ='Tabel 1 Zorguitgaven 1996-2031'!F14-'Tabel 1 Zorguitgaven 1996-2031'!E14 -> 0.6316858 | F18: ='Tabel 1 Zorguitgaven 1996-2031'!G14-'Tabel 1 Zorguitgaven 1996-2031'!F14 -> 1.0740445 | G18: ='Tabel 1 Zorguitgaven 1996-2031'!H14-'Tabel 1 Zorguitgaven 1996-2031'!G14 -> 1.7163255 | H18: ='Tabel 1 Zorguitgaven 1996-2031'!I14-'Tabel 1 Zorguitgaven 1996-2031'!H14 -> 2.1681635 | I18: ='Tabel 1 Zorguitgaven 1996-2031'!J14-'Tabel 1 Zorguitgaven 1996-2031'!I14 -> 1.5130993 | J18: ='Tabel 1 Zorguitgaven 1996-2031'!K14-'Tabel 1 Zorguitgaven 1996-2031'!J14 -> 1.0904665 | ... AK18: ='Tabel 1 Zorguitgaven 1996-2031'!AL14-'Tabel 1 Zorguitgaven 1996-2031'!AK14 -> 2.9137
A19: Nominale groei (% netto Wlz) | C19: =C18/'Tabel 1 Zorguitgaven 1996-2031'!C14 -> 0.25263765 | D19: =D18/'Tabel 1 Zorguitgaven 1996-2031'!D14 -> 0.040340693 | E19: =E18/'Tabel 1 Zorguitgaven 1996-2031'!E14 -> 0.056247622 | F19: =F18/'Tabel 1 Zorguitgaven 1996-2031'!F14 -> 0.090543982 | G19: =G18/'Tabel 1 Zorguitgaven 1996-2031'!G14 -> 0.13267643 | H19: =H18/'Tabel 1 Zorguitgaven 1996-2031'!H14 -> 0.14797225 | I19: =I18/'Tabel 1 Zorguitgaven 1996-2031'!I14 -> 0.089954788 | J19: =J18/'Tabel 1 Zorguitgaven 1996-2031'!J14 -> 0.059478595 | ... AK19: =AK18/'Tabel 1 Zorguitgaven 1996-2031'!AK14 -> 0.059212772
A20: Prijs BBP | C20: 0.026 | D20: 0.021 | E20: 0.013 | F20: 0.034 | G20: 0.042 | H20: 0.038 | I20: 0.022 | J20: 0.012 | K20: 0.02 | L20: 0.026 | M20: 0.021 | N20: 0.023 | O20: 0.002 | P20: 0.009 | Q20: 0.002 | R20: 0.014 | S20: 0.013 | T20: 0.003 | U20: 0.008 | V20: 0.005 | W20: 0.013 | X20: 0.025334117 | Y20: 0.030278131 | Z20: 0.023557769 | AA20: 0.027473382 | AB20: 0.061555749 | AC20: 0.063020691 | AD20: 0.057443029 | AE20: 0.040887228 | AF20: 0.024938374 | AG20: 0.025335361 | AH20: 0.02654432 | AI20: 0.024859642 | AJ20: 0.023566644 | AK20: 0.023566644
A21: Reële groei van de netto Wlz-uitgaven | C21: =(1+C19)/(1+C20)-1 -> 0.22089439 | D21: =(1+D19)/(1+D20)-1 -> 0.018942892 | E21: =(1+E19)/(1+E20)-1 -> 0.042692618 | F21: =(1+F19)/(1+F20)-1 -> 0.054684703 | G21: =(1+G19)/(1+G20)-1 -> 0.087021523 | H21: =(1+H19)/(1+H20)-1 -> 0.10594629 | I21: =(1+I19)/(1+I20)-1 -> 0.066491965 | J21: =(1+J19)/(1+J20)-1 -> 0.046915608 | ... AK21: =(1+AK19)/(1+AK20)-1 -> 0.034825411
A23: Groei totale netto premiegefinancierde Zorguitgaven | C23: ='Tabel 1 Zorguitgaven 1996-2031'!D19-'Tabel 1 Zorguitgaven 1996-2031'!C19 -> 2.7271782 | D23: ='Tabel 1 Zorguitgaven 1996-2031'!E19-'Tabel 1 Zorguitgaven 1996-2031'!D19 -> 1.0584765 | E23: ='Tabel 1 Zorguitgaven 1996-2031'!F19-'Tabel 1 Zorguitgaven 1996-2031'!E19 -> 1.5614858 | F23: ='Tabel 1 Zorguitgaven 1996-2031'!G19-'Tabel 1 Zorguitgaven 1996-2031'!F19 -> 2.1877867 | G23: ='Tabel 1 Zorguitgaven 1996-2031'!H19-'Tabel 1 Zorguitgaven 1996-2031'!G19 -> 3.4744135 | H23: ='Tabel 1 Zorguitgaven 1996-2031'!I19-'Tabel 1 Zorguitgaven 1996-2031'!H19 -> 4.4975375 | I23: ='Tabel 1 Zorguitgaven 1996-2031'!J19-'Tabel 1 Zorguitgaven 1996-2031'!I19 -> 2.9867481 | J23: ='Tabel 1 Zorguitgaven 1996-2031'!K19-'Tabel 1 Zorguitgaven 1996-2031'!J19 -> 1.3768365 | ... AK23: ='Tabel 1 Zorguitgaven 1996-2031'!AL19-'Tabel 1 Zorguitgaven 1996-2031'!AK19 -> 5.776595
A24: Nominale groei (% netto premiegefinancierde zorguitgaven) | C24: =C23/'Tabel 1 Zorguitgaven 1996-2031'!C19 -> 0.11960841 | D24: =D23/'Tabel 1 Zorguitgaven 1996-2031'!D19 -> 0.041463243 | E24: =E23/'Tabel 1 Zorguitgaven 1996-2031'!E19 -> 0.058732183 | F24: =F23/'Tabel 1 Zorguitgaven 1996-2031'!F19 -> 0.077724327 | G24: =G23/'Tabel 1 Zorguitgaven 1996-2031'!G19 -> 0.11453173 | H24: =H23/'Tabel 1 Zorguitgaven 1996-2031'!H19 -> 0.13302298 | I24: =I23/'Tabel 1 Zorguitgaven 1996-2031'!I19 -> 0.077967166 | J24: =J23/'Tabel 1 Zorguitgaven 1996-2031'!J19 -> 0.033341872 | ... AK24: =AK23/'Tabel 1 Zorguitgaven 1996-2031'!AK19 -> 0.046388736
A25: Prijs BBP | C25: 0.026 | D25: 0.021 | E25: 0.013 | F25: 0.034 | G25: 0.042 | H25: 0.038 | I25: 0.022 | J25: 0.012 | K25: 0.02 | L25: 0.026 | M25: 0.021 | N25: 0.023 | O25: 0.002 | P25: 0.009 | Q25: 0.002 | R25: 0.014 | S25: 0.013 | T25: 0.003 | U25: 0.008 | V25: 0.005 | W25: 0.013 | X25: 0.025334117 | Y25: 0.030278131 | Z25: 0.023557769 | AA25: 0.027473382 | AB25: 0.061555749 | AC25: 0.063020691 | AD25: 0.057443029 | AE25: 0.040887228 | AF25: 0.024938374 | AG25: 0.025335361 | AH25: 0.02654432 | AI25: 0.024859642 | AJ25: 0.023566644 | AK25: 0.023566644
A26: Reële groei van de netto premiegefinancierde Zorguitgaven | C26: =(1+C24)/(1+C25)-1 -> 0.091236266 | D26: =(1+D24)/(1+D25)-1 -> 0.020042354 | E26: =(1+E24)/(1+E25)-1 -> 0.045145294 | F26: =(1+F24)/(1+F25)-1 -> 0.042286583 | G26: =(1+G24)/(1+G25)-1 -> 0.069608184 | H26: =(1+H24)/(1+H25)-1 -> 0.091544293 | I26: =(1+I24)/(1+I25)-1 -> 0.054762393 | J26: =(1+J24)/(1+J25)-1 -> 0.021088806 | ... AK26: =(1+AK24)/(1+AK25)-1 -> 0.022296635
A28: Netto premiegefinancierde zorguitgaven | C28: ='Tabel 1 Zorguitgaven 1996-2031'!D19 -> 25.528068 | D28: ='Tabel 1 Zorguitgaven 1996-2031'!E19 -> 26.586545 | E28: ='Tabel 1 Zorguitgaven 1996-2031'!F19 -> 28.14803 | F28: ='Tabel 1 Zorguitgaven 1996-2031'!G19 -> 30.335817 | G28: ='Tabel 1 Zorguitgaven 1996-2031'!H19 -> 33.810231 | H28: ='Tabel 1 Zorguitgaven 1996-2031'!I19 -> 38.307768 | I28: ='Tabel 1 Zorguitgaven 1996-2031'!J19 -> 41.294516 | J28: ='Tabel 1 Zorguitgaven 1996-2031'!K19 -> 42.671353 | ... AK28: ='Tabel 1 Zorguitgaven 1996-2031'!AL19 -> 130.30241
A29: BBP | C29: 369 | D29: 394.3 | E29: 419.5 | F29: 452 | G29: 481.9 | H29: 501.1 | I29: 512.8 | J29: 529.3 | K29: 550.9 | L29: 584.5 | M29: 619.2 | N29: 647.2 | O29: 624.8 | P29: 643 | Q29: 656 | R29: 658.2 | S29: 665.6 | T29: 678.6 | U29: 699.2 | V29: 720.2 | W29: 750.9 | X29: 787.3 | Y29: 829.8 | Z29: 816.5 | AA29: 891.6 | AB29: 993.82 | AC29: 1050.1 | AD29: 1122.5 | AE29: 1187.3 | AF29: 1224.0478 | AG29: 1277.6247 | AH29: 1331.7907 | AI29: 1381.7403 | AJ29: 1433.1769 | AK29: 1479.5809
A30: Netto zorguitgaven / BBP | C30: =C28/C29 -> 0.069181756 | D30: =D28/D29 -> 0.067427199 | E30: =E28/E29 -> 0.067099 | F30: =F28/F29 -> 0.06711464 | G30: =G28/G29 -> 0.070160263 | H30: =H28/H29 -> 0.076447352 | I30: =I28/I29 -> 0.080527528 | J30: =J28/J29 -> 0.080618463 | ... AK30: =AK28/AK29 -> 0.088067108
